BEGIN:VCALENDAR
VERSION:2.0
PRODID:-//hacksw/handcal//NONSGML v1.0//EN
BEGIN:VEVENT
SUMMARY:[Coach Marie] on reprend les cotes ! les vraies !
UID:fc002692-4abb-4709-b038-8c1f20e755c1
DTSTART:20260428T164500Z
DTEND:20260428T181500Z
LOCATION:Localisation   
CATEGORIES:Sportif
STATUS:
URL;VALUE=URI:https://www.elan-lambescain.fr/evenements/2026/04/28/coach-marie-on-reprend-les-cotes-les-vraies-2443158
END:VEVENT
END:VCALENDAR
