BEGIN:VCALENDAR
VERSION:2.0
PRODID:-//hacksw/handcal//NONSGML v1.0//EN
BEGIN:VEVENT
SUMMARY:Footing cool + Mawok
UID:fb813814-1b61-4d5f-82cd-81478ac02d78
DTSTART:20260421T164500Z
DTEND:20260421T214500Z
LOCATION:Localisation   
CATEGORIES:Sportif
STATUS:
URL;VALUE=URI:https://www.elan-lambescain.fr/evenements/2026/04/21/footing-cool-mawok-2443157
END:VEVENT
END:VCALENDAR
