BEGIN:VCALENDAR
VERSION:2.0
PRODID:-//hacksw/handcal//NONSGML v1.0//EN
BEGIN:VEVENT
SUMMARY:MARATHON D’ANNECY
UID:94ed4629-b661-460f-b47c-36608bb2e8eb
DTSTART:20260418T220000Z
DTEND:20260419T220000Z
LOCATION:Localisation   
CATEGORIES:Sportif
STATUS:
URL;VALUE=URI:https://www.elan-lambescain.fr/evenements/2026/04/19/marathon-dannecy-2443023
END:VEVENT
END:VCALENDAR
